BEGIN:VCALENDAR
VERSION:2.0
PRODID:jazz-concerts.com
METHOD:PUBLISH
SEQUENCE:1776660487
BEGIN:VEVENT
UID:jazz-concerts.com-1-43264
DTSTAMP:20260420T064807
DTSTART:20260502T200000
DTEND:20260502T220000
SUMMARY:Herlin Riley Quartet with Weedie Braimah and Special Guests
LOCATION:Snug Harbor Jazz Bistro Frenchmen Street 626\, 70116 New Orleans\, United States
DESCRIPTION:tickets: https://jazz-concerts.com/en/event/43264\n\nHerlin Riley Quartet with Weedie Braimah and Special Guests\n\n
END:VEVENT
END:VCALENDAR
