BEGIN:VCALENDAR
VERSION:2.0
PRODID:jazz-concerts.com
METHOD:PUBLISH
SEQUENCE:1776691476
BEGIN:VEVENT
UID:jazz-concerts.com-1-43271
DTSTAMP:20260420T152436
DTSTART:20260429T200000
DTEND:20260429T220000
SUMMARY:Rebekka Bakken Trio
LOCATION:Bürgerhäuser Dreieich Fichtestraße 50\, 63303 Dreieich\, Germany
DESCRIPTION:tickets: https://jazz-concerts.com/en/event/43271\n\nRebekka Bakken Trio\n\n
END:VEVENT
END:VCALENDAR
