BEGIN:VCALENDAR
VERSION:2.0
PRODID:jazz-concerts.com
METHOD:PUBLISH
SEQUENCE:1776702237
BEGIN:VEVENT
UID:jazz-concerts.com-1-43274
DTSTAMP:20260420T182357
DTSTART:20261128T200000
DTEND:20261128T220000
SUMMARY:Rebekka Bakken
LOCATION:Die Glocke Domsheide 6-8\, 28195 Bremen\, Germany
DESCRIPTION:tickets: https://jazz-concerts.com/en/event/43274\n\nRebekka Bakken\n\n
END:VEVENT
END:VCALENDAR
