BEGIN:VCALENDAR
VERSION:2.0
PRODID:jazz-concerts.com
METHOD:PUBLISH
SEQUENCE:1776685461
BEGIN:VEVENT
UID:jazz-concerts.com-1-43275
DTSTAMP:20260420T134421
DTSTART:20261211T200000
DTEND:20261211T220000
SUMMARY:Rebekka Bakken
LOCATION:Kammgarn Kaiserslautern Schoenstraße 10\, 67659 Kaiserslautern\, Germany
DESCRIPTION:tickets: https://jazz-concerts.com/en/event/43275\n\nRebekka Bakken\n\n
END:VEVENT
END:VCALENDAR
