BEGIN:VCALENDAR
VERSION:2.0
PRODID:jazz-concerts.com
METHOD:PUBLISH
SEQUENCE:1776702247
BEGIN:VEVENT
UID:jazz-concerts.com-1-43276
DTSTAMP:20260420T182407
DTSTART:20261217T200000
DTEND:20261217T220000
SUMMARY:Rebekka Bakken
LOCATION:Passionskirche Marheinekeplatz 1\, 10961 Berlin\, Germany
DESCRIPTION:tickets: https://jazz-concerts.com/en/event/43276\n\nRebekka Bakken\n\n
END:VEVENT
END:VCALENDAR
