BEGIN:VCALENDAR
VERSION:2.0
PRODID:jazz-concerts.com
METHOD:PUBLISH
SEQUENCE:1776685464
BEGIN:VEVENT
UID:jazz-concerts.com-1-43289
DTSTAMP:20260420T134424
DTSTART:20260515T203000
DTEND:20260515T223000
SUMMARY:Fridge People
LOCATION:Jazzclub Ludwigsburg Bahnhofstraße 19\, 71638 Ludwigsburg\, Germany
DESCRIPTION:tickets: https://jazz-concerts.com/en/event/43289\n\nFridge People\n\n
END:VEVENT
END:VCALENDAR
