BEGIN:VCALENDAR
VERSION:2.0
PRODID:jazz-concerts.com
METHOD:PUBLISH
SEQUENCE:1776703992
BEGIN:VEVENT
UID:jazz-concerts.com-1-43290
DTSTAMP:20260420T185312
DTSTART:20260422T173000
DTEND:20260422T193000
SUMMARY:Tobias Meinhart Quartet
LOCATION:Ronnie Scott's Frith Street 47\, W1D 4HT London\, United Kingdom
DESCRIPTION:tickets: https://jazz-concerts.com/en/event/43290\n\nTobias Meinhart Quartet\n\n
END:VEVENT
END:VCALENDAR
