BEGIN:VCALENDAR
VERSION:2.0
PRODID:jazz-concerts.com
METHOD:PUBLISH
SEQUENCE:1776716980
BEGIN:VEVENT
UID:jazz-concerts.com-1-43302
DTSTAMP:20260420T222940
DTSTART:20260513T182000
DTEND:20260513T202000
SUMMARY:Natalie Williams & Jamie Safir Trio
LOCATION:Ronnie Scott's Frith Street 47\, W1D 4HT London\, United Kingdom
DESCRIPTION:tickets: https://jazz-concerts.com/en/event/43302\n\nNatalie Williams & Jamie Safir Trio\n\n
END:VEVENT
END:VCALENDAR
