BEGIN:VCALENDAR
VERSION:2.0
PRODID:jazz-concerts.com
METHOD:PUBLISH
SEQUENCE:1776695574
BEGIN:VEVENT
UID:jazz-concerts.com-1-43315
DTSTAMP:20260420T163254
DTSTART:20260502T182000
DTEND:20260502T202000
SUMMARY:New Jazz Underground
LOCATION:Ronnie Scott's Frith Street 47\, W1D 4HT London\, United Kingdom
DESCRIPTION:tickets: https://jazz-concerts.com/en/event/43315\n\nNew Jazz Underground\n\n
END:VEVENT
END:VCALENDAR
