BEGIN:VCALENDAR
VERSION:2.0
PRODID:jazz-concerts.com
METHOD:PUBLISH
SEQUENCE:1776641744
BEGIN:VEVENT
UID:jazz-concerts.com-4-660
DTSTAMP:20260420T013544
DTSTART:20260226T000000
DTEND:20260328T000000
SUMMARY:Echter' Jazz Festival
LOCATION:
DESCRIPTION:Echter' Jazz Festival\n\n
END:VEVENT
END:VCALENDAR
