BEGIN:VCALENDAR
VERSION:2.0
PRODID:jazz-concerts.com
METHOD:PUBLISH
SEQUENCE:1776698060
BEGIN:VEVENT
UID:jazz-concerts.com-4-669
DTSTAMP:20260420T171420
DTSTART:20260313T000000
DTEND:20260315T000000
SUMMARY:Werder klingt
LOCATION:
DESCRIPTION:Werder klingt\n\n
END:VEVENT
END:VCALENDAR
