BEGIN:VCALENDAR
VERSION:2.0
PRODID:jazz-concerts.com
METHOD:PUBLISH
SEQUENCE:1776666823
BEGIN:VEVENT
UID:jazz-concerts.com-8-1164
DTSTAMP:20260420T083343
DTSTART:20260807T000000
DTEND:20260809T000000
SUMMARY:Latin Jazz Gesang
LOCATION:Fürsteneck Castle Am Schloßgarten 3\, 36132 Eiterfeld\, Germany
DESCRIPTION:info: https://jazz-concerts.com/en/workshop/1164\nwebsite: https://www.burg-fuersteneck.de/kursprogramm/musik_und_tanz/latin_jazz_gesang_26_10731\n\nLatin Jazz Gesang\n\n
END:VEVENT
END:VCALENDAR
