BEGIN:VCALENDAR
VERSION:2.0
PRODID:jazz-concerts.com
METHOD:PUBLISH
SEQUENCE:1776692033
BEGIN:VEVENT
UID:jazz-concerts.com-8-1183
DTSTAMP:20260420T153353
DTSTART:20260817T000000
DTEND:20260822T000000
SUMMARY:LeJazz Zomercursus
LOCATION: Tilburg\, Netherlands
DESCRIPTION:info: https://jazz-concerts.com/en/workshop/1183\nwebsite: https://www.lejazznow.nl/https://www.lejazznow.nl/workshop/lejazz-zomercursus-17t-m-22-augustus-2026/\n\nLeJazz Zomercursus\n\n
END:VEVENT
END:VCALENDAR
